BEGIN:VCALENDAR
VERSION:2.0
PRODID:-//Hexenschwestern - ECPv6.15.20//NONSGML v1.0//EN
CALSCALE:GREGORIAN
METHOD:PUBLISH
X-ORIGINAL-URL:https://hexen-schwestern.de
X-WR-CALDESC:Veranstaltungen für Hexenschwestern
REFRESH-INTERVAL;VALUE=DURATION:PT1H
X-Robots-Tag:noindex
X-PUBLISHED-TTL:PT1H
BEGIN:VTIMEZONE
TZID:UTC
BEGIN:STANDARD
TZOFFSETFROM:+0000
TZOFFSETTO:+0000
TZNAME:UTC
DTSTART:20240101T000000
END:STANDARD
END:VTIMEZONE
BEGIN:VEVENT
DTSTART;TZID=UTC:20251201T000000
DTEND;TZID=UTC:20260630T000000
DTSTAMP:20260422T120615
CREATED:20251128T075616Z
LAST-MODIFIED:20251128T090806Z
UID:722-1764547200-1782777600@hexen-schwestern.de
SUMMARY:Mini-Online-Kurse 2025/2026
DESCRIPTION:Du hast keine Zeit Kurse persönlich zu besuchen\, interessierst dich jedoch sehr für das Thema? \nDann bist du bei uns genau richtig. Wir bieten neben unseren persönlichen Kursen auch kleine\, mehrtägige Onlinekurse an\, in denen wir uns jeden Monat einem bestimmten Thema widmen. Der Kurs findet über eine separate-private Gruppe des Telegramm-Messenger statt. Jeden Tag erhälst du verschiedene Informationen\, Rezepte\, Videos\, Geschichten und/oder Bilder. Du kannst jederzeit Fragen stellen\, die wir zeitnah innerhalb des Kurses beantworten. \nDer Mini-Online-Kurs kostet                 35\,00€ \nDer monatliche Onlinekurs beginnt jeweils am 10. eines Monats. \nAm Ende bekommst du ein Handout per PDF-Datei mit allen wichtigen Informationen zum jeweiligen Thema. \n\n\n\n10. Dezember 2025 und 10. Januar 2026 – Thema Schlehe\n10. Februar 2026 – Thema Rindenmedizin Weißdorn\n10. März 2026 – Thema Gemmotherapie aus Garten- und Wildobst\n10. April 2026 – Thema Tinkturen (alkoholische Tinkturen\, Herstellung\, Aufbewahrung\, Haltbarkeit\, Rezepte)\n10. Mai 2026 – Thema Oxymel – Sauerhonig (Herstellung\, Aufbewahrung\, Haltbarkeit\, Rezepte)\n10. Juni 2026 – Thema Tee (Herstellung\, Aufbewahrung\, Haltbarkeit\, Rezepte)\n\n\n\nAnmeldung mit deinen persönlichen Daten (Name\, Anschrift und Telefonnummer) gern an: \ninfo@hexen-schwestern.de \noder telefonisch unter 0172 184 75 73 (Martina Busse) 0157 56 85 66 19 (Melanie Klocke). \nDu erhälst von uns anschließend eine Rechnung mit allen wichtigen Informationen sowie nach Zahlung einen Link für die Telegramm-Gruppe. Bitte beachte\, dass du zur Teilnahme an dem Kurs über den Messanger Telegramm verfügen musst. \n 
URL:https://hexen-schwestern.de/kurstermine/mini-online-kurs-dezember-2025-und-januar-2026-thema-schlehe
ATTACH;FMTTYPE=image/jpeg:https://hexen-schwestern.de/wp-content/uploads/2024/11/20220521_174011-scaled.jpg
END:VEVENT
END:VCALENDAR